BEGIN:VCALENDAR
VERSION:2.0
PRODID:-//averysmallpress - ECPv6.15.13//NONSGML v1.0//EN
CALSCALE:GREGORIAN
METHOD:PUBLISH
X-ORIGINAL-URL:https://averysmallpress.com
X-WR-CALDESC:Events for averysmallpress
REFRESH-INTERVAL;VALUE=DURATION:PT1H
X-Robots-Tag:noindex
X-PUBLISHED-TTL:PT1H
BEGIN:VTIMEZONE
TZID:America/New_York
BEGIN:DAYLIGHT
TZOFFSETFROM:-0500
TZOFFSETTO:-0400
TZNAME:EDT
DTSTART:20240310T070000
END:DAYLIGHT
BEGIN:STANDARD
TZOFFSETFROM:-0400
TZOFFSETTO:-0500
TZNAME:EST
DTSTART:20241103T060000
END:STANDARD
BEGIN:DAYLIGHT
TZOFFSETFROM:-0500
TZOFFSETTO:-0400
TZNAME:EDT
DTSTART:20250309T070000
END:DAYLIGHT
BEGIN:STANDARD
TZOFFSETFROM:-0400
TZOFFSETTO:-0500
TZNAME:EST
DTSTART:20251102T060000
END:STANDARD
BEGIN:DAYLIGHT
TZOFFSETFROM:-0500
TZOFFSETTO:-0400
TZNAME:EDT
DTSTART:20260308T070000
END:DAYLIGHT
BEGIN:STANDARD
TZOFFSETFROM:-0400
TZOFFSETTO:-0500
TZNAME:EST
DTSTART:20261101T060000
END:STANDARD
END:VTIMEZONE
BEGIN:VEVENT
DTSTART;TZID=America/New_York:20250309T150000
DTEND;TZID=America/New_York:20250309T170000
DTSTAMP:20260421T065358
CREATED:20250228T212458Z
LAST-MODIFIED:20250320T225617Z
UID:895-1741532400-1741539600@averysmallpress.com
SUMMARY:Emily's Detour Book Tour - Beaufort\, Inlet Inn
DESCRIPTION:Join Emily Carter\, author of A Spork in the Road\, and her husband\, award-winning songwriter John Carter\, for a special afternoon of stories\, music\, and meaningful conversation at the Inlet Inn in Beaufort. The Detour Book Tour is an intimate celebration of the arts\, where guests will have the chance to hear Emily read from her newly released collection of warm\, witty essays and enjoy original music that brings the stories to life. \nEmily’s debut book is a heartfelt and humorous reflection on life’s unexpected turns\, offering wisdom and wit in equal measure. Paired with John’s soulful songwriting\, the evening promises to be a unique blend of storytelling and live performance that captures the spirit of resilience\, humor\, and community. \nThis event is free and open to the public\, with the opportunity to pre-order signed copies of A Spork in the Road before its official release. Seating is limited\, so early arrival is recommended. \nCome for the stories\, stay for the music\, and enjoy the detour. \nVisit Emily at her blog achicksview.com.
URL:https://averysmallpress.com/event/emilys-detour-book-tour-beaufort-inlet-inn/
LOCATION:Inlet Inn\, 601 Front St\, Beaufort\, NC\, 28516\, United States
CATEGORIES:EPIC Carteret Books
ATTACH;FMTTYPE=image/jpeg:https://averysmallpress.com/wp-content/uploads/2025/02/Emilys-Detour-Book-Tour2.jpg
END:VEVENT
END:VCALENDAR