BEGIN:VCALENDAR
VERSION:2.0
PRODID:-//averysmallpress - ECPv6.15.13//NONSGML v1.0//EN
CALSCALE:GREGORIAN
METHOD:PUBLISH
X-ORIGINAL-URL:https://averysmallpress.com
X-WR-CALDESC:Events for averysmallpress
REFRESH-INTERVAL;VALUE=DURATION:PT1H
X-Robots-Tag:noindex
X-PUBLISHED-TTL:PT1H
BEGIN:VTIMEZONE
TZID:America/New_York
BEGIN:DAYLIGHT
TZOFFSETFROM:-0500
TZOFFSETTO:-0400
TZNAME:EDT
DTSTART:20240310T070000
END:DAYLIGHT
BEGIN:STANDARD
TZOFFSETFROM:-0400
TZOFFSETTO:-0500
TZNAME:EST
DTSTART:20241103T060000
END:STANDARD
BEGIN:DAYLIGHT
TZOFFSETFROM:-0500
TZOFFSETTO:-0400
TZNAME:EDT
DTSTART:20250309T070000
END:DAYLIGHT
BEGIN:STANDARD
TZOFFSETFROM:-0400
TZOFFSETTO:-0500
TZNAME:EST
DTSTART:20251102T060000
END:STANDARD
BEGIN:DAYLIGHT
TZOFFSETFROM:-0500
TZOFFSETTO:-0400
TZNAME:EDT
DTSTART:20260308T070000
END:DAYLIGHT
BEGIN:STANDARD
TZOFFSETFROM:-0400
TZOFFSETTO:-0500
TZNAME:EST
DTSTART:20261101T060000
END:STANDARD
BEGIN:DAYLIGHT
TZOFFSETFROM:-0500
TZOFFSETTO:-0400
TZNAME:EDT
DTSTART:20270314T070000
END:DAYLIGHT
BEGIN:STANDARD
TZOFFSETFROM:-0400
TZOFFSETTO:-0500
TZNAME:EST
DTSTART:20271107T060000
END:STANDARD
END:VTIMEZONE
BEGIN:VEVENT
DTSTART;TZID=America/New_York:20250625T110000
DTEND;TZID=America/New_York:20250625T130000
DTSTAMP:20260419T111111
CREATED:20250601T134732Z
LAST-MODIFIED:20250601T134732Z
UID:2092-1750849200-1750856400@averysmallpress.com
SUMMARY:Emily’s Detour Book Tour – Pawley's Island
DESCRIPTION:On Wednesday\, June 25 at 11:00 am\, Emily and John will appear together as the delightful\, dynamic Chick N Biscuit for The Moveable Feast\, the long-running series of luncheons with authors spearheaded by the multi-talented Linda Ketron\, founder of CLASS Publishing. To register for The Moveable Feast\, email Ketron at linda@classatpawleys.com or call 843.235.9600\, or register online at: https://classatpawleys.com/feast.php. The cost for the Moveable Feast is $35 per person.
URL:https://averysmallpress.com/event/emilys-detour-book-tour-pawleys-island/
LOCATION:Quigley’s Next Door\, 257 Willbrook Blvd\, Pawleys Island\, SC\, 29585\, United States
CATEGORIES:EPIC Carteret Books
ATTACH;FMTTYPE=image/jpeg:https://averysmallpress.com/wp-content/uploads/2025/05/Emilys-Detour-Book-Tour-May-No-Dates.jpg
ORGANIZER;CN="CLASS Publishing":MAILTO:linda@classatpawleys.com
END:VEVENT
BEGIN:VEVENT
DTSTART;TZID=America/New_York:20250626T100000
DTEND;TZID=America/New_York:20250626T120000
DTSTAMP:20260419T111111
CREATED:20250601T132555Z
LAST-MODIFIED:20250601T132555Z
UID:2087-1750932000-1750939200@averysmallpress.com
SUMMARY:Writing Memoir Workshop - Pawley's Island
DESCRIPTION:Ever thought about writing down your life story? On Thursday\, June 26\, 2025\, the Waccamaw Library will host a free writing workshop on how to write a memoir. The workshop will be taught by North Carolina writer Emily Dunlap Carter\, the author of A Spork in the Road: Reflections on the Journey\, which shares the stories that shaped her: growing up in the rural South\, raising two sassy children\, building a life with her husband (award-winning musician John)\, and finding her voice as a writer. With warmth\, humor\, and the kind of wisdom that sticks to your ribs\, Carter’s memoir is a love letter to family\, resilience\, and the joy of a well-told tale. Carter’s writing talents cross genres\, from memoir and creative nonfiction\, to prose poetry\, to country songs. The workshop is free and open to the public. However\, space is limited. Please register in advance.
URL:https://averysmallpress.com/event/writing-memoir-workshop-pawleys-island/
LOCATION:Waccamaw Library\, 41 St Paul's Pl\, Pawleys Island\, NC\, 29585\, United States
CATEGORIES:EPIC Carteret Books
ATTACH;FMTTYPE=image/jpeg:https://averysmallpress.com/wp-content/uploads/2025/06/Memoir-Writing-Workshop.jpg
END:VEVENT
BEGIN:VEVENT
DTSTART;TZID=America/New_York:20250627T170000
DTEND;TZID=America/New_York:20250627T200000
DTSTAMP:20260419T111111
CREATED:20250617T013631Z
LAST-MODIFIED:20250617T131504Z
UID:2143-1751043600-1751054400@averysmallpress.com
SUMMARY:PLP at the Middle Lane Book Fair at The Periwinkle
DESCRIPTION:Think Scholastic Book Fair TURNED LOCAL STYLE—for kids and especially for the grown-ups! \nJoin Planck Length Publishing along with pop-up bookshops Beaufort Bookworm and Peddling Prose at The Periwinkle\, Beaufort’s favorite third-space for creativity and connection\, during the Middle Lane Book Fair! The Periwinkle is all about building community through books\, art\, and meaningful moments—and this event is no exception. \nWhat’s happening at the PLP table:– Signed copies of A Spork in the Road by Emily Carter\, our bestselling debut author– The official debut of Sister Bernadette’s Garden of Stories\, our magical new seasonal zine– FREE zine copies of Lot 1—a Weird Tales from Waves End Retreat story—for the first early birds– Creative Kinship workshop collab zine + stickers galore \nWhether you’re a Winter Hauntings fan or just discovering the PLP universe\, come by to connect\, explore\, and support local lit. Let’s turn Middle Lane into a storybook street—see you at the fair!
URL:https://averysmallpress.com/event/plp-at-the-middle-lane-book-fair-at-the-periwinkle/
LOCATION:the periwinkle\, 110 Middle Lane\, Beaufort\, NC\, 28516\, United States
CATEGORIES:EPIC Carteret Books,Planck Length Publishing
ATTACH;FMTTYPE=image/jpeg:https://averysmallpress.com/wp-content/uploads/2025/06/PLP-at-the-periwinkle-june-27.jpg
ORGANIZER;CN="the periwinkle":MAILTO:theperiwinklenc@gmail.com
END:VEVENT
BEGIN:VEVENT
DTSTART;TZID=America/New_York:20250721T090000
DTEND;TZID=America/New_York:20250721T160000
DTSTAMP:20260419T111111
CREATED:20250705T183928Z
LAST-MODIFIED:20250711T223015Z
UID:2222-1753088400-1753113600@averysmallpress.com
SUMMARY:PLP in Production\, Day 1: Coastal Connections
DESCRIPTION:Facilitated by Carteret County’s Planck Length Publishing and funded by Narrative Arts of Wilmington\, Coastal Connections is a two-day creative media intensive hosted at the Morehead City Library and produced entirely by local youth\, ages 13-21. This project explores third spaces—gathering places like parks\, cafés\, and barbershops—and how they help people build real connection in a digital age. \nOn Day One\, our media producers will hit the streets of Downtown Morehead City to collect soundscapes\, conduct interviews\, and gather inspiration. Fieldwork will include a local service provider\, a local park and pier\, and a local restaurant\, where they’ll record conversations and ambient sound during a working lunch. \nThis is a closed production day\, but the work being created will be shared with the public later this summer through a podcast featured on the EPIC Carteret platform\, a print zine\, and a community showcase event. Follow along for updates!
URL:https://averysmallpress.com/event/plp-in-production-day-1-coastal-connections/
LOCATION:Morehead City Public Library\, 202 S 8th St\, Morehead City\, NC\, 28557\, United States
CATEGORIES:Planck Length Publishing
ATTACH;FMTTYPE=image/jpeg:https://averysmallpress.com/wp-content/uploads/2025/07/PLP-in-Production-Girl-Recording.jpg
ORGANIZER;CN="Narrative Arts":MAILTO:info@narrativearts.org
END:VEVENT
BEGIN:VEVENT
DTSTART;TZID=America/New_York:20250722T090000
DTEND;TZID=America/New_York:20250722T160000
DTSTAMP:20260419T111111
CREATED:20250705T184254Z
LAST-MODIFIED:20250711T222927Z
UID:2227-1753174800-1753200000@averysmallpress.com
SUMMARY:PLP in Production\, Day 2: Coastal Connections
DESCRIPTION:Coastal Connections continues with Day Two\, hosted again by Morehead City Library and made possible by Narrative Arts. Youth producers will return to downtown to record on-site at the History Museum of Carteret County and the White Rabbit Café\, an emerging third space whose whimsical atmosphere and welcoming vision make it a perfect fit for the project’s theme. \nThe afternoon will shift into studio time: scriptwriting\, audio editing\, narration recording\, and zine layout. Participants will reflect on what they’ve discovered about community\, connection\, and the places where we meet. \nStay tuned for a public showcase event—including the debut of the Coastal Connections special edition podcast presented on the EPIC Carteret platform\, a zine launch\, and a behind-the-scenes mini-documentary produced by local videographer Olivia Van Sickle. Details coming soon.
URL:https://averysmallpress.com/event/plp-in-production-day-2-coastal-connections/
LOCATION:Morehead City Public Library\, 202 S 8th St\, Morehead City\, NC\, 28557\, United States
CATEGORIES:Planck Length Publishing
ATTACH;FMTTYPE=image/jpeg:https://averysmallpress.com/wp-content/uploads/2025/07/PLP-in-Production-Girl-Recording.jpg
ORGANIZER;CN="Narrative Arts":MAILTO:info@narrativearts.org
END:VEVENT
BEGIN:VEVENT
DTSTART;TZID=America/New_York:20250809T090000
DTEND;TZID=America/New_York:20250809T130000
DTSTAMP:20260419T111111
CREATED:20250617T015455Z
LAST-MODIFIED:20250617T131554Z
UID:2148-1754730000-1754744400@averysmallpress.com
SUMMARY:PLP at Book Lovers Day at the Market
DESCRIPTION:Join Planck Length Publishing for Book Lovers Day at the Market—a celebration of stories\, summer\, and the vibrant local literary scene! We’re thrilled to be part of this special event at the Olde Beaufort Farmer’s Market\, where readers and writers meet under the oaks to share in the joy of books. \nWhat you’ll find at the PLP table: \n– The Spring and Summer Volumes of Sister B Zines– Signed copies of A Spork in the Road by Emily Carter– A curated selection of new and unusual offerings from our literary treasure chest \nWhether you’re a dedicated PLP reader or just book-curious\, this is the perfect chance to browse\, chat\, and take home something beautiful. \nBig thanks to the Olde Beaufort Farmer’s Market for creating space where local writers and readers can connect. Events like this help keep storytelling alive and rooted in our community. \nCome early\, bring a tote bag\, and let the stories find you.
URL:https://averysmallpress.com/event/plp-at-book-lovers-day-at-the-market/
LOCATION:Olde Beaufort Farmer’s Market\, 402 Broad St\, Beaufort\, NC\, 28516\, United States
CATEGORIES:EPIC Carteret Books,Planck Length Publishing
ATTACH;FMTTYPE=image/jpeg:https://averysmallpress.com/wp-content/uploads/2025/06/PLP-at-the-OBFM-August-9.jpg
END:VEVENT
BEGIN:VEVENT
DTSTART;TZID=America/New_York:20250822T150000
DTEND;TZID=America/New_York:20250822T160000
DTSTAMP:20260419T111111
CREATED:20250811T173644Z
LAST-MODIFIED:20250819T193546Z
UID:2410-1755874800-1755878400@averysmallpress.com
SUMMARY:Coastal Connections: Meet the Storytellers
DESCRIPTION:Seating is at capacity for our afternoon of community and conversation to celebrate Coastal Connections\, a youth-produced podcast exploring third spaces in Carteret County. Members of the production team and local residents featured in the episode will share their reflections on the experience and how shared spaces\, from barber shops to museums to cafés\, support community building\, belonging\, and well-being. \nThe podcast itself will be available to stream two days before the event on August 20. This gathering focuses not on the production of the episode but on the stories it uncovered and how we might invest in third spaces as antidotes to isolation and engines of community health. \nThe event is free with very limited seating. If you’d like to come meet the storytellers\, hear from local leaders and business owners\, and share your own perspective on the places that connect us\, please email Autumn Ware at autumn@averysmallpress.com. \nLearn more about Coastal Connections and stream at EPIC Carteret. \nRefreshments will be available from White Rabbit Cafe.
URL:https://averysmallpress.com/event/coastal-connections-meet-the-storytellers/
LOCATION:White Rabbit Cafe\, 1012 Arendell St\, Morehead City\, 28557\, United States
CATEGORIES:EPIC Carteret
ATTACH;FMTTYPE=image/jpeg:https://averysmallpress.com/wp-content/uploads/2025/08/20250815_CC_WordPress-Event-Graphic-UPDATED.jpg
ORGANIZER;CN="Narrative Arts":MAILTO:info@narrativearts.org
END:VEVENT
BEGIN:VEVENT
DTSTART;TZID=America/New_York:20260418T140000
DTEND;TZID=America/New_York:20260418T190000
DTSTAMP:20260419T111111
CREATED:20250706T150718Z
LAST-MODIFIED:20251010T190803Z
UID:2231-1776520800-1776538800@averysmallpress.com
SUMMARY:WeirdFest
DESCRIPTION:Step into a whole other dimension of fun at the Crystal Coast’s most curious literary festival! Our WeirdFest Reality Disengagement Manual (RDM) transforms Lost Treasure Mini Golf into a free-roaming celebration of local lore\, featuring interdimensional quests\, the biggest Skull-astic Book Fair ever assembled in this reality\, and the fabulously surreal hourly Riftwear Runway Style Strut. \nThe Skull-astic Book Fair\, Story Sieve\, and Riftwear Runway are free to explore — and for a $10 investment in our proprietary RDM\, you can experience new dimensions of Lost Treasure’s fun family park. \nThis event is a fundraiser for our first anthology Weird Tales from Waves End Retreat\, a collection of strange short stories inspired by the Crystal Coast and written by equally strange local authors. \nWhen you sponsor\, volunteer\, donate\, or buy a zine\, you become a Planck Patron\, a founding supporter in the tradition of maritime plank owners. No matter how small your contribution\, it helps us chart new stories and bring strange new delights to eastern North Carolina. \nCome for the fashion. Stay for the quests. Leave with your Certified Interdimensional Traveler stamp and a story of your own. \nExplore WeirdFest Online.
URL:https://averysmallpress.com/event/weirdfest/
LOCATION:Lost Treasure Golf & Raceway\, 976 Salter Path Rd\, Salter Path\, NC\, 28575\, United States
CATEGORIES:Planck Length Publishing
ATTACH;FMTTYPE=image/jpeg:https://averysmallpress.com/wp-content/uploads/2025/10/PLP-Webpage-Container-Backgrounds-WeirdFest.jpg
ORGANIZER;CN="Planck Length Publishing":MAILTO:hello@averysmallpress.com
END:VEVENT
END:VCALENDAR