BEGIN:VCALENDAR
VERSION:2.0
PRODID:-//averysmallpress - ECPv6.15.13//NONSGML v1.0//EN
CALSCALE:GREGORIAN
METHOD:PUBLISH
X-WR-CALNAME:averysmallpress
X-ORIGINAL-URL:https://averysmallpress.com
X-WR-CALDESC:Events for averysmallpress
REFRESH-INTERVAL;VALUE=DURATION:PT1H
X-Robots-Tag:noindex
X-PUBLISHED-TTL:PT1H
BEGIN:VTIMEZONE
TZID:America/New_York
BEGIN:DAYLIGHT
TZOFFSETFROM:-0500
TZOFFSETTO:-0400
TZNAME:EDT
DTSTART:20240310T070000
END:DAYLIGHT
BEGIN:STANDARD
TZOFFSETFROM:-0400
TZOFFSETTO:-0500
TZNAME:EST
DTSTART:20241103T060000
END:STANDARD
BEGIN:DAYLIGHT
TZOFFSETFROM:-0500
TZOFFSETTO:-0400
TZNAME:EDT
DTSTART:20250309T070000
END:DAYLIGHT
BEGIN:STANDARD
TZOFFSETFROM:-0400
TZOFFSETTO:-0500
TZNAME:EST
DTSTART:20251102T060000
END:STANDARD
BEGIN:DAYLIGHT
TZOFFSETFROM:-0500
TZOFFSETTO:-0400
TZNAME:EDT
DTSTART:20260308T070000
END:DAYLIGHT
BEGIN:STANDARD
TZOFFSETFROM:-0400
TZOFFSETTO:-0500
TZNAME:EST
DTSTART:20261101T060000
END:STANDARD
END:VTIMEZONE
BEGIN:VEVENT
DTSTART;TZID=America/New_York:20250429T160000
DTEND;TZID=America/New_York:20250429T193000
DTSTAMP:20260421T041551
CREATED:20250428T140940Z
LAST-MODIFIED:20250428T140940Z
UID:1346-1745942400-1745955000@averysmallpress.com
SUMMARY:2025 Chamber Expo Debut
DESCRIPTION:Planck Length Publishing (PLP) is proud to make its debut at the 2025 Chamber Business Expo! \nStop by our table to meet the creative team\, explore upcoming projects\, and learn more about how we’re building the shortest possible distance between creative voices and the communities that need to hear them. \nAuthor Emily Carter will be on hand signing and selling copies of her new essay collection\, A Spork in the Road\, the first release from our EPIC Carteret Books imprint. Emily also now hosts the EPIC Carteret podcast\, showcasing the extraordinary people and places of our coastal community. \nLearn more about our upcoming anthology\, Weird Tales from Waves End Retreat\, the launch of Sister Bernadette Zine this May\, and future immersive events like Winter Hauntings and WeirdFest. \nWhether you’re a reader\, writer\, local business\, or just curious\, come discover how you can get involved—through sponsorships\, submissions\, or simply by celebrating local arts and storytelling. \nPlanck Length Publishing: small press\, infinite possibilities.
URL:https://averysmallpress.com/event/2025-chamber-expo-debut/
LOCATION:Crystal Coast Civic Center\, 203 College Cir\, Morehead City\, NC\, 28557\, United States
CATEGORIES:Planck Length Publishing
ATTACH;FMTTYPE=image/jpeg:https://averysmallpress.com/wp-content/uploads/2025/04/Emilys-Detour-Book-Tour1.jpg
ORGANIZER;CN="Carteret County Chamber of Commerce":MAILTO:marketing@carteretchamber.org
END:VEVENT
END:VCALENDAR